Workbook

Sheet Multiyear Budgets
B1: USATF Pacific 2024-2027 Budgets & Results
D2: 2024 | H2: 2025 | M2: 2026 | R2: 2027 | W2: =TODAY() -> 46278
A3: Line No. | C3: Quickbooks Account Name | D3: Budget 2024 | E3: Subtotals & Sums | F3: Actual 2024 | G3: Subtotals & Sums | H3: Budget 2025 | I3: Subtotals & Sums | J3: Actual 2025 | K3: Subtotals & Sums | L3: Delta v. Budget | M3: Budget Request 2026 | N3: Subtotals & Sums | O3: Projected Actual 2026 | P3: Subtotals & Sums | Q3: Delta v. Req. | R3: Budget Request 2027 | S3: Budget Req. | T3: Subtotals & Sums | U3: Adopted Budget 2027 | V3: Subtotals & Sums | W3: Comments
F4: 2025 | J4: 2025
A5: 1 | B5: INCOME
A6: =A5+1 -> 2 | B6: ADMINISTRATION
A7: =A6+1 -> 3 | B7: Dividends | C7: INVESTMENTS | D7: 20184 | F7: 97623 | H7: 34300 | J7: 40000 | L7: =IF(H7=0, "n/a",(J7-H7)/H7) -> 0.16618076 | M7: 35000 | O7: 50000 | Q7: =IF(M7=0, "n/a",(O7-M7)/M7) -> 0.42857143 | R7: 35000 | S7: x
A8: =A7+1 -> 4 | B8: Donations | C8: Donations | F8: 200 | W8: From donations during membership payment.
A9: =A8+1 -> 5 | B9: Misc | C9: Misc Inc | F9: 3051 | W9: Uncategorized Income
A10: =A9+1 -> 6 | B10: Grants | C10: GRANTS | D10: 7000 | F10: 5500 | J10: 5600 | L10: =IF(H10=0, "n/a",(J10-H10)/H10) -> n/a | M10: 0 | O10: 0 | Q10: =IF(M10=0, "n/a",(O10-M10)/M10) -> n/a | R10: 0 | S10: x | W10: Run, Jump, Throw and LDR in '25. A Total Station USATF grant in 2025.
A11: =A10+1 -> 7 | B11: Administration Subtotal | E11: =SUM(D6:D10) -> 27184 | G11: =SUM(F7:F10) -> 106374 | I11: =SUM(H7:H10) -> 34300 | K11: =SUM(J7:J10) -> 45600 | L11: =IF(I11=0, "n/a",(K11-I11)/I11) -> 0.32944606 | N11: =SUM(M7:M10) -> 35000 | P11: =SUM(O7:O10) -> 50000 | Q11: =IF(N11=0, "n/a",(P11-N11)/N11) -> 0.42857143 | T11: =SUM(R7:R10) -> 35000 | V11: =SUM(U7:U10) -> 0
A12: =A11+1 -> 8 | B12: MEMBERSHIPS
A13: =A12+1 -> 9 | B13: Clubs | C13: Club Mem Inc | D13: 9000 | F13: 11250 | H13: 9000 | J13: 9700 | L13: =IF(H13=0, "n/a",(J13-H13)/H13) -> 0.077777778 | M13: 9000 | O13: 11200 | Q13: =IF(M13=0, "n/a",(O13-M13)/M13) -> 0.24444444 | R13: 9000 | S13: x
A14: =A13+1 -> 10 | B14: Individuals | C14: Members Athlete | D14: 80000 | F14: 106462.43 | H14: 103000 | J14: 97000 | L14: =IF(H14=0, "n/a",(J14-H14)/H14) -> -0.058252427 | M14: 103000 | O14: 126000 | Q14: =IF(M14=0, "n/a",(O14-M14)/M14) -> 0.22330097 | R14: 103000 | S14: x
A15: =A14+1 -> 11 | B15: Memberships Subtotal | E15: =SUM(D12:D14) -> 89000 | G15: =SUM(F13:F14) -> 117712.43 | I15: =SUM(H13:H14) -> 112000 | K15: =SUM(J13:J14) -> 106700 | L15: =IF(I15=0, "n/a",(K15-I15)/I15) -> -0.047321429 | N15: =SUM(M13:M14) -> 112000 | P15: =SUM(O13:O14) -> 137200 | Q15: =IF(N15=0, "n/a",(P15-N15)/N15) -> 0.225 | T15: =SUM(R13:R14) -> 112000 | V15: =SUM(U13:U14) -> 0
A16: =A15+1 -> 12 | B16: SANCTIONS | C16: Sanction-local | D16: 15000 | F16: 18768.99 | H16: 15000 | J16: 15000 | L16: =IF(H16=0, "n/a",(J16-H16)/H16) -> 0 | M16: 15000 | O16: 20000 | Q16: =IF(M16=0, "n/a",(O16-M16)/M16) -> 0.33333333 | R16: 20000 | S16: x
A17: =A16+1 -> 13 | B17: EVENTS
A18: =A17+1 -> 14 | B18: Pacific Open T&F Champs | C18: OT&F MEET | W18: From 2023, part of Golden West Invitational (GWI)
A19: =A18+1 -> 15 | B19: Pacific Masters T&F Champs | C19: MASTERS MEET | D19: 6000 | F19: 6076.55 | H19: 7200 | J19: 0 | L19: =IF(H19=0, "n/a",(J19-H19)/H19) -> -1 | Q19: =IF(M19=0, "n/a",(O19-M19)/M19) -> n/a | W19: Merged into GWI
A20: =A19+1 -> 16 | B20: Race Walking Champs | D20: 630 | F20: 115 | H20: 180 | J20: 260 | L20: =IF(H20=0, "n/a",(J20-H20)/H20) -> 0.44444444 | M20: 210 | O20: 125 | Q20: =IF(M20=0, "n/a",(O20-M20)/M20) -> -0.4047619 | R20: 455 | S20: x | W20: 1500m+1MILE+3000m
A21: =A20+1 -> 17 | B21: Race Walking : Extra Events | D21: 180 | F21: 180.24 | H21: 175 | J21: 175 | L21: =IF(H21=0, "n/a",(J21-H21)/H21) -> 0 | M21: 175 | O21: 175 | Q21: =IF(M21=0, "n/a",(O21-M21)/M21) -> 0 | W21: 1-hour/10km - Fall event
A22: =A21+1 -> 18 | B22: Pacific Open/Masters XC | C22: PAXC | D22: 11000 | F22: 18785 | H22: 6000 | J22: 15000 | L22: =IF(H22=0, "n/a",(J22-H22)/H22) -> 1.5 | M22: 15000 | O22: 15000 | Q22: =IF(M22=0, "n/a",(O22-M22)/M22) -> 0 | R22: 15000 | S22: x | W22: Fall event
A23: =A22+1 -> 19 | B23: Pacific Indoor Meets | D23: 30000 | F23: 24000 | H23: 100000 | J23: 65000 | L23: =IF(H23=0, "n/a",(J23-H23)/H23) -> -0.35 | M23: 85000 | O23: 83000 | Q23: =IF(M23=0, "n/a",(O23-M23)/M23) -> -0.023529412 | R23: 85000 | S23: x | W23: 4 indoor meets in Reno, spans two fiscal years.
A24: =A23+1 -> 20 | B24: Pacific College Club T&F Champs | C24: PAC/College Club | D24: 12500 | F24: 1628 | M24: 10000 | O24: 0 | W24: Adding Masters - did not occur.
A25: =A24+1 -> 21 | B25: 2024 USATF Masters T&F | D25: 25000 | F25: 17233.44
A26: =A25+1 -> 22 | B26: Non-Youth Events Subtotal | E26: =SUM(D18:D25) -> 85310 | G26: =SUM(F18:F25) -> 68018.23 | I26: =SUM(H18:H25) -> 113555 | K26: =SUM(J18:J25) -> 80435 | L26: =IF(I26=0, "n/a",(K26-I26)/I26) -> -0.29166483 | N26: =SUM(M18:M25) -> 110385 | P26: =SUM(O18:O25) -> 98300 | Q26: =IF(N26=0, "n/a",(P26-N26)/N26) -> -0.10948045 | T26: =SUM(R18:R25) -> 100455 | V26: =SUM(U18:U25) -> 0
A27: =A26+1 -> 23 | B27: YOUTH EVENTS
A28: =A27+1 -> 24 | B28: Pacific Youth T&F Champs (PAC) | C28: PAC | M28: 10000 | O28: 0
A29: =A28+1 -> 25 | B29: Pacific JO T&F (Top 8) | C29: PAJO | D29: 30000 | F29: 39203.4 | H29: 37500 | J29: 21500 | L29: =IF(H29=0, "n/a",(J29-H29)/H29) -> -0.42666667 | M29: 37250 | O29: 0 | Q29: =IF(M29=0, "n/a",(O29-M29)/M29) -> -1
A30: =A29+1 -> 26 | B30: Region 14 T&F (Top 5) | C30: JOREGION | D30: 20000 | F30: 21579.74 | M30: 26500 | O30: 40000 | R30: 43110 | S30: x | W30: Right size Revenue and Scope. Need to know where National Meet is.
A31: =A30+1 -> 27 | B31: Region 14 Combined Events | C31: MULTIS | D31: 3500 | F31: 4330 | J31: 3500 | L31: =IF(H31=0, "n/a",(J31-H31)/H31) -> n/a | M31: 4000 | O31: 4000 | Q31: =IF(M31=0, "n/a",(O31-M31)/M31) -> 0 | R31: 5000 | S31: x | W31: Right size Revenue and Scope. Need to know where National Meet is.
A32: =A31+1 -> 28 | B32: Pacific JO Cross Country | C32: PAXC | D32: 5000 | F32: 5430 | H32: 5000 | J32: 5000 | M32: 5000 | O32: 0
A33: =A32+1 -> 29 | B33: Region JO Cross Country | C33: REGION XC | D33: 5500 | H33: 6500 | J33: 6500 | M33: 0 | O33: 5000 | R33: 8000 | S33: x | W33: Big Increase projected. Need explanation.
A34: =A33+1 -> 30 | B34: Youth Events Subtotal | E34: =SUM(D27:D33) -> 64000 | G34: =SUM(F27:F33) -> 70543.14 | I34: =SUM(H27:H33) -> 49000 | K34: =SUM(J27:J33) -> 36500 | L34: =IF(I34=0, "n/a",(K34-I34)/I34) -> -0.25510204 | N34: =SUM(M27:M33) -> 82750 | P34: =SUM(O27:O33) -> 49000 | Q34: =IF(N34=0, "n/a",(P34-N34)/N34) -> -0.40785498 | T34: =SUM(R27:R33) -> 56110 | V34: =SUM(U27:U33) -> 0
A35: =A34+1 -> 31 | B35: COMMITTEES
A36: =A35+1 -> 32 | B36: Equipment | C36: Total Eq Rent Inc | J36: 0 | W36: Rental (e.g. Timing System, wind gauges, 2 Total Stations)
A37: =A36+1 -> 33 | B37: Awards--Banquet | D37: 5500 | F37: 3892.21 | H37: 4500 | J37: 3500 | L37: =IF(H37=0, "n/a",(J37-H37)/H37) -> -0.22222222 | O37: 2600 | Q37: =IF(M37=0, "n/a",(O37-M37)/M37) -> n/a
A38: =A37+1 -> 34 | B38: Officials
A39: =A38+1 -> 35 | B39: Annual Meeting | C39: Luncheon | F39: 3038.6 | H39: 2500 | J39: 2500 | L39: =IF(H39=0, "n/a",(J39-H39)/H39) -> 0 | M39: 2500 | O39: 2500 | Q39: =IF(M39=0, "n/a",(O39-M39)/M39) -> 0 | R39: 2500 | S39: x
A40: =A39+1 -> 36 | B40: Clinics | C40: Clinics | F40: 0 | H40: 0 | J40: 0 | M40: 0 | O40: 0 | R40: 0
...

Sheet Event Analysis
C3: USATF-PA Event Income and Expenses | E3: 2024 | I3: 2025 | M3: 2026
C4: General Events | E4: Income | F4: Expense | G4: Net | I4: Income | J4: Expense | K4: Net | M4: Income | N4: Expense | O4: Net
C5: Pacific Masters T&F Champs | E5: ='Multiyear Budgets'!F19 -> 6076.55 | F5: ='Multiyear Budgets'!F73 -> 3293.61 | G5: =E5-F5 -> 2782.94 | I5: ='Multiyear Budgets'!J19 -> 0 | J5: ='Multiyear Budgets'!J73 -> 0 | K5: =I5-J5 -> 0 | M5: ='Multiyear Budgets'!M19 -> 0 | N5: ='Multiyear Budgets'!M73 -> 0 | O5: =M5-N5 -> 0
C6: Race Walking Champs | E6: ='Multiyear Budgets'!F20 -> 115 | F6: ='Multiyear Budgets'!F74 -> 1310 | G6: =E6-F6 -> -1195 | I6: ='Multiyear Budgets'!J20 -> 260 | J6: ='Multiyear Budgets'!J74 -> 1230 | K6: =I6-J6 -> -970 | M6: 300 | N6: 1230 | O6: =M6-N6 -> -930
C7: Pacific Open/Masters XC | E7: ='Multiyear Budgets'!F22 -> 18785 | F7: ='Multiyear Budgets'!F75 -> 7200 | G7: =E7-F7 -> 11585 | I7: ='Multiyear Budgets'!J22 -> 15000 | J7: ='Multiyear Budgets'!J75 -> 8000 | K7: =I7-J7 -> 7000 | M7: ='Multiyear Budgets'!M22 -> 15000 | N7: ='Multiyear Budgets'!M75 -> 8000 | O7: =M7-N7 -> 7000
C8: Pacific Indoor Meets | E8: ='Multiyear Budgets'!F23 -> 24000 | F8: ='Multiyear Budgets'!F76 -> 34000 | G8: =E8-F8 -> -10000 | I8: ='Multiyear Budgets'!J23 -> 65000 | J8: ='Multiyear Budgets'!J76 -> 65000 | K8: =I8-J8 -> 0 | M8: 83000 | N8: 83000 | O8: =M8-N8 -> 0
C9: Pacific College Club T&F Champs | E9: ='Multiyear Budgets'!F24 -> 1628 | F9: ='Multiyear Budgets'!F77 -> 5119.6 | G9: =E9-F9 -> -3491.6 | I9: ='Multiyear Budgets'!J24 -> 0 | J9: ='Multiyear Budgets'!J77 -> 0 | K9: =I9-J9 -> 0 | M9: 0 | N9: 0 | O9: =M9-N9 -> 0
C10: General Events Subtotal: | E10: =SUM(E5:E9) -> 50604.55 | F10: =SUM(F5:F9) -> 50923.21 | G10: =SUM(G5:G9) -> -318.66 | I10: =SUM(I5:I9) -> 80260 | J10: =SUM(J5:J9) -> 74230 | K10: =SUM(K5:K9) -> 6030 | M10: =SUM(M5:M9) -> 98300 | N10: =SUM(N5:N9) -> 92230 | O10: =SUM(O5:O9) -> 6070
C12: Youth Events | E12: Income | F12: Expense | G12: Net | I12: Income | J12: Expense | K12: Net | M12: Income | N12: Expense | O12: Net
C13: Pacific Youth T&F Champs (PAC) | E13: ='Multiyear Budgets'!F28 -> 0 | F13: ='Multiyear Budgets'!F80 -> 0 | G13: =E13-F13 -> 0 | I13: ='Multiyear Budgets'!J28 -> 0 | J13: ='Multiyear Budgets'!J80 -> 0 | K13: =I13-J13 -> 0 | O13: =M13-N13 -> 0
C14: Pacific JO T&F (Top 8) | E14: ='Multiyear Budgets'!F29 -> 39203.4 | F14: ='Multiyear Budgets'!F81 -> 27182.56 | G14: =E14-F14 -> 12020.84 | I14: ='Multiyear Budgets'!J29 -> 21500 | J14: ='Multiyear Budgets'!J81 -> 30000 | K14: =I14-J14 -> -8500 | O14: =M14-N14 -> 0
C15: Region 14 Combined Events | E15: ='Multiyear Budgets'!F31 -> 4330 | F15: ='Multiyear Budgets'!F82 -> 3990 | G15: =E15-F15 -> 340 | I15: ='Multiyear Budgets'!J31 -> 3500 | J15: ='Multiyear Budgets'!J82 -> 4700 | K15: =I15-J15 -> -1200 | M15: ='Multiyear Budgets'!M31 -> 4000 | N15: 4000 | O15: =M15-N15 -> 0
C16: Region 14 T&F (Top 5) | E16: ='Multiyear Budgets'!F30 -> 21579.74 | F16: ='Multiyear Budgets'!F84 -> 16856.35 | G16: =E16-F16 -> 4723.39 | I16: ='Multiyear Budgets'!J30 -> 0 | J16: ='Multiyear Budgets'!J84 -> 0 | K16: =I16-J16 -> 0 | M16: 40000 | N16: 35300 | O16: =M16-N16 -> 4700
C17: Pacific JO Cross Country | E17: ='Multiyear Budgets'!F32 -> 5430 | F17: ='Multiyear Budgets'!F85 -> 7950.17 | G17: =E17-F17 -> -2520.17 | I17: ='Multiyear Budgets'!J32 -> 5000 | J17: ='Multiyear Budgets'!J85 -> 4400 | K17: =I17-J17 -> 600 | M17: 5000 | N17: ='Multiyear Budgets'!M85 -> 4400 | O17: =M17-N17 -> 600
C18: Region JO Cross Country | E18: ='Multiyear Budgets'!F33 -> 0 | F18: ='Multiyear Budgets'!F87 -> 0 | G18: =E18-F18 -> 0 | I18: ='Multiyear Budgets'!J33 -> 6500 | J18: ='Multiyear Budgets'!J87 -> 4400 | K18: =I18-J18 -> 2100 | M18: ='Multiyear Budgets'!M33 -> 0 | N18: ='Multiyear Budgets'!M87 -> 0 | O18: =M18-N18 -> 0
C19: Youth Events Subtotal: | E19: =SUM(E14:E18) -> 70543.14 | F19: =SUM(F14:F18) -> 55979.08 | G19: =SUM(G14:G18) -> 14564.06 | I19: =SUM(I14:I18) -> 36500 | J19: =SUM(J14:J18) -> 43500 | K19: =SUM(K14:K18) -> -7000 | M19: =SUM(M14:M18) -> 49000 | N19: =SUM(N14:N18) -> 43700 | O19: =SUM(O14:O18) -> 5300
C21: USATF-PA Events Total: | E21: =E10+E19 -> 121147.69 | F21: =F10+F19 -> 106902.29 | G21: =G10+G19 -> 14245.4 | I21: =I10+I19 -> 116760 | J21: =J10+J19 -> 117730 | K21: =K10+K19 -> -970 | M21: =M10+M19 -> 147300 | N21: =N10+N19 -> 135930 | O21: =O10+O19 -> 11370
M34: Date: | N34: =TODAY() -> 46278

Sheet Budget Submissions
B4: 2027 Budget Submission Status by Committee
B6: Committee | C6: Point of Contact | D6: Submitted? | E6: Reflected in 2026 Budget | F6: Notes
B7: Men's T&F | C7: Fred Baer
B8: Women's T&F | C8: Amanda Alvaredo
B9: Master's T&F | C9: Pamela Mason
B10: Men's LDR | C10: Mark Murray | D10: - | E10: - | F10: This is combined LDR.
B11: Women's LDR | C11: Angie Ashworth | F11: This is combined LDR.
B12: Masters LDR | C12: Andy Crawford | D12: - | E12: - | F12: This is combined LDR.
B13: Race Walking | C13: Robin Stevens | D13: x | E13: x
B14: Youth | C14: Eric Stuart / Ed Hollshwandner | D14: x | E14: x
B15: Athletes | C15: Brendon Gregg
B16: Officials | C16: Phil Leake
B17: Coaches | C17: Dave Schrock | D17: x | E17: x
B18: Para Athletics | C18: Lee Webb
B19: Awards | C19: Ryan Cowley | D19: - | E19: - | F19: Not normally submitted.
B20: Communications | C20: LaDonna Aubert | D20: - | E20: - | F20: Not normally submitted.
B21: Media | C21: Payton Bilo | D21: - | E21: - | F21: Not normally submitted.
B22: Marketing | C22: Verity Breen | D22: - | E22: - | F22: Not normally submitted.
B23: Financial and Audit | C23: David Sander | D23: x | E23: x
B24: Membership | C24: Irene Herman | D24: - | E24: - | F24: Not normally submitted.
B28: 2026 Budget Submission Status by Committee
B30: Committee | C30: Point of Contact | D30: Submitted? | E30: Reflected in 2026 Budget | F30: Notes
B31: Men's T&F | C31: Fred Baer
B32: Women's T&F | C32: Amanda Alvaredo
B33: Master's T&F | C33: Pamela Mason
B34: Men's LDR | C34: Mark Murray | D34: - | E34: - | F34: This is combined LDR.
B35: Women's LDR | C35: Angie Longworth/Cindy Reed | D35: x | E35: x | F35: This is combined LDR.
B36: Masters LDR | C36: Andy Crawford | D36: - | E36: - | F36: This is combined LDR.
B37: Race Walking | C37: Robin Stevens | D37: x | E37: x
B38: Youth | C38: Eric Stuart / Ed Hollshwandner | D38: x | E38: x
B39: Athletes | C39: Brendon Gray
B40: Officials | C40: Phil Leake | D40: x | E40: x
B41: Coaches | C41: Dave Schrock | D41: x | E41: x
B42: Para Athletics | C42: Lee Webb
B43: Awards | C43: Ryan Cowley | D43: - | E43: - | F43: Not normally submitted.
B44: Communications | C44: Cinsee Calvin | D44: - | E44: - | F44: Not normally submitted.
B45: Media | C45: Fred Baer | D45: - | E45: - | F45: Not normally submitted.
B46: Marketing | C46: ( Irene Herman ) | D46: - | E46: - | F46: Not normally submitted.
B47: Financial and Audit | C47: David Sander | D47: x | E47: x
B48: Membership | C48: Irene Herman | D48: - | E48: - | F48: Not normally submitted.
